BEGIN:VCALENDAR
VERSION:2.0
PRODID:-//Gaiarome - ECPv6.15.20//NONSGML v1.0//EN
CALSCALE:GREGORIAN
METHOD:PUBLISH
X-ORIGINAL-URL:https://www.gaiarome.com
X-WR-CALDESC:Évènements pour Gaiarome
REFRESH-INTERVAL;VALUE=DURATION:PT1H
X-Robots-Tag:noindex
X-PUBLISHED-TTL:PT1H
BEGIN:VTIMEZONE
TZID:Europe/Brussels
BEGIN:DAYLIGHT
TZOFFSETFROM:+0100
TZOFFSETTO:+0200
TZNAME:CEST
DTSTART:20240331T010000
END:DAYLIGHT
BEGIN:STANDARD
TZOFFSETFROM:+0200
TZOFFSETTO:+0100
TZNAME:CET
DTSTART:20241027T010000
END:STANDARD
BEGIN:DAYLIGHT
TZOFFSETFROM:+0100
TZOFFSETTO:+0200
TZNAME:CEST
DTSTART:20250330T010000
END:DAYLIGHT
BEGIN:STANDARD
TZOFFSETFROM:+0200
TZOFFSETTO:+0100
TZNAME:CET
DTSTART:20251026T010000
END:STANDARD
BEGIN:DAYLIGHT
TZOFFSETFROM:+0100
TZOFFSETTO:+0200
TZNAME:CEST
DTSTART:20260329T010000
END:DAYLIGHT
BEGIN:STANDARD
TZOFFSETFROM:+0200
TZOFFSETTO:+0100
TZNAME:CET
DTSTART:20261025T010000
END:STANDARD
END:VTIMEZONE
BEGIN:VEVENT
DTSTART;TZID=Europe/Brussels:20250514T090000
DTEND;TZID=Europe/Brussels:20250514T113000
DTSTAMP:20260421T223612
CREATED:20250422T101122Z
LAST-MODIFIED:20250422T101447Z
UID:29632-1747213200-1747222200@www.gaiarome.com
SUMMARY:Formation Les Huiles essentielles au quotidien : Les indispensables de l'été 2025 !
DESCRIPTION:Formation Les Huiles essentielles au quotidien Spécial été !\nLa formation Les Huiles essentielles au quotidien spécial été vous propose\, en 2h30\, de faire le tour des meilleurs trucs et astuces aroma pour l’été. \nLa trousse de secours\, la trousse bien-être\, mais aussi\, pour préparer la saison\, il peut-être nécessaire de se remettre en forme et d’alléger la silhouette.\nNous ferons donc appel à la phyto-aromathérapie\, c’est à dire que nous ferons appel à quelques plantes indispensables en plus de nos chères huiles essentielles. \nNous réaliserons un petit roll-on polyvalent pour soulage les douleurs et… éloigner les moustiques. \nInscription via le paiement de 35€ en cliquant sur ce lien sécurisé. Paiement sur place possible mais réservation nécessaire par email (info@gaiarome.com) \nAdresse du jour : \nCentrez-Vous \nrue de la scierie 26  \n6990 Hotton (BE)
URL:https://www.gaiarome.com/evenement/les-huiles-essentielles-au-quotidien/
LOCATION:Centrez-Vous\, 7 rue du Thier\, Hotton\, 6990\, Belgium
CATEGORIES:Formations
ATTACH;FMTTYPE=image/jpeg:https://www.gaiarome.com/wp-content/uploads/2025/04/492421645_649509847934048_7828659551954317517_n.jpg
END:VEVENT
END:VCALENDAR