BEGIN:VCALENDAR
VERSION:2.0
PRODID:-//Gaiarome - ECPv6.15.20//NONSGML v1.0//EN
CALSCALE:GREGORIAN
METHOD:PUBLISH
X-ORIGINAL-URL:https://www.gaiarome.com
X-WR-CALDESC:Évènements pour Gaiarome
REFRESH-INTERVAL;VALUE=DURATION:PT1H
X-Robots-Tag:noindex
X-PUBLISHED-TTL:PT1H
BEGIN:VTIMEZONE
TZID:Europe/Brussels
BEGIN:DAYLIGHT
TZOFFSETFROM:+0100
TZOFFSETTO:+0200
TZNAME:CEST
DTSTART:20240331T010000
END:DAYLIGHT
BEGIN:STANDARD
TZOFFSETFROM:+0200
TZOFFSETTO:+0100
TZNAME:CET
DTSTART:20241027T010000
END:STANDARD
BEGIN:DAYLIGHT
TZOFFSETFROM:+0100
TZOFFSETTO:+0200
TZNAME:CEST
DTSTART:20250330T010000
END:DAYLIGHT
BEGIN:STANDARD
TZOFFSETFROM:+0200
TZOFFSETTO:+0100
TZNAME:CET
DTSTART:20251026T010000
END:STANDARD
BEGIN:DAYLIGHT
TZOFFSETFROM:+0100
TZOFFSETTO:+0200
TZNAME:CEST
DTSTART:20260329T010000
END:DAYLIGHT
BEGIN:STANDARD
TZOFFSETFROM:+0200
TZOFFSETTO:+0100
TZNAME:CET
DTSTART:20261025T010000
END:STANDARD
END:VTIMEZONE
BEGIN:VEVENT
DTSTART;VALUE=DATE:20250517
DTEND;VALUE=DATE:20250519
DTSTAMP:20260422T001105
CREATED:20250314T131744Z
LAST-MODIFIED:20250314T195314Z
UID:29399-1747440000-1747612799@www.gaiarome.com
SUMMARY:Médi-zen\, salon bien être et médiumnité 2025
DESCRIPTION:Médi-zen\, salon bien être et médiumnité 2025\nLe salon médi-zen\, c’est plus de 40 exposants pour ce salon avec entrée gratuite. Praticiens bien-être\, bien-être de la maison\, produits ésotériques pour cet 11ème édition. \nPlongez dans un univers où les professionnels de la région vous accueillent avec enthousiasme pour vous présenter leurs activités variée dans tous les secteurs du Bien Être. 3 niveaux\, 3 espaces dédiés – Bien Être de la Maison et de Vous même – Praticiens Bien-être – Espace Ésotérique\, Voyance et Zen \nRetrouvez sur place Patrice Coelsch – réflexologie et thérapeute pluridisciplinaire. \nSamedi 10h-19h & dimanche 10h-18h
URL:https://www.gaiarome.com/evenement/medi-zen-salon-2025/
LOCATION:HOTEL DE LA MONNAIE\, Place de la liberté\, MOLSHEIM\, 67120\, France
CATEGORIES:Salons et foires
ATTACH;FMTTYPE=image/jpeg:https://www.gaiarome.com/wp-content/uploads/2025/03/IMG_8414.jpg
END:VEVENT
END:VCALENDAR