BEGIN:VCALENDAR
VERSION:2.0
PRODID:-//Gaiarome - ECPv6.15.20//NONSGML v1.0//EN
CALSCALE:GREGORIAN
METHOD:PUBLISH
X-ORIGINAL-URL:https://www.gaiarome.com
X-WR-CALDESC:Évènements pour Gaiarome
REFRESH-INTERVAL;VALUE=DURATION:PT1H
X-Robots-Tag:noindex
X-PUBLISHED-TTL:PT1H
BEGIN:VTIMEZONE
TZID:Europe/Brussels
BEGIN:DAYLIGHT
TZOFFSETFROM:+0100
TZOFFSETTO:+0200
TZNAME:CEST
DTSTART:20240331T010000
END:DAYLIGHT
BEGIN:STANDARD
TZOFFSETFROM:+0200
TZOFFSETTO:+0100
TZNAME:CET
DTSTART:20241027T010000
END:STANDARD
BEGIN:DAYLIGHT
TZOFFSETFROM:+0100
TZOFFSETTO:+0200
TZNAME:CEST
DTSTART:20250330T010000
END:DAYLIGHT
BEGIN:STANDARD
TZOFFSETFROM:+0200
TZOFFSETTO:+0100
TZNAME:CET
DTSTART:20251026T010000
END:STANDARD
BEGIN:DAYLIGHT
TZOFFSETFROM:+0100
TZOFFSETTO:+0200
TZNAME:CEST
DTSTART:20260329T010000
END:DAYLIGHT
BEGIN:STANDARD
TZOFFSETFROM:+0200
TZOFFSETTO:+0100
TZNAME:CET
DTSTART:20261025T010000
END:STANDARD
END:VTIMEZONE
BEGIN:VEVENT
DTSTART;VALUE=DATE:20250520
DTEND;VALUE=DATE:20250525
DTSTAMP:20260421T183100
CREATED:20250515T142036Z
LAST-MODIFIED:20250516T073102Z
UID:29761-1747699200-1748131199@www.gaiarome.com
SUMMARY:💚🌱L’Amour des plantes - du 20 au 24 mai 2025 - 4 jours\, 25 experts dont votre serviteur...
DESCRIPTION:L’Amour des plantes🌱💚 du 20 au 24 mai 2025\n \nJe vous invite pour le Sommet en ligne 💚🌱L’Amour des plantes🌱💚 du 20 au 24 mai 2025 \nNous partageons sans doute un amour commun pour les plantes et je suis heureux d’avoir rejoint un panel d’experts dans le vaste domaine des bienfaits prodigués par le monde végétal. De Laurent Huguelit à Toni et Aurélie Ceron et Frederika Van Ingen\, entre philosophie et ethnobotanique\, du bourgeon à la cérémonie rituelle\, en passant par la médecine de Hildegarde et la musique des plantes\, c’est un magnifique programme plein de promesses qui aura lieu durant ce sommet unique dédié à l’Amour des plantes. \nLes plantes sont-elles plus sages que nous les humains ? Est-il possible de communiquer avec elles pour se faciliter la vie sur Terre ? Que peuvent-elles nous enseigner de la relation à la Mère ? Certaines plantes viennent-elles nous réconforter\, apaiser\, éduquer\, guider ? Que peuvent nous apporter les plantes et que pouvons-nous faire pour elles ? \nPlus de 25 experts partageront leurs expériences et conseils pratiques Cliquez ici pour vous inscrire gratuitement ! \nLe sommet l’Amour des plantes est organisé par Nathalie Frossard avec qui j’ai eu beaucoup de joie à échanger sur la dimension spirituelle des plantes et des huiles essentielles.  \nNathalie œuvre avec les plantes depuis une trentaine d’années. Ce sommet réunira des scientifiques\, des thérapeutes\, des artistes\, des sages qui auront à cœur de vous transmettre leur expérience… Des ateliers concrets vous aideront à progresser dans votre compréhension et votre expérience du vivant. \nMon interview sera diffusée le samedi 24 mai et disponible gratuitement pendant 48 h. Il suffit juste de vous inscrire. Je serai ravi de vous y retrouver ! \nA la joie de partager cela avec vous\, \nEric De Ruest \nPS : changez votre relation aux plantes avec ce sommet qui commence le 20 mai : Inscrivez-vous gratuitement ici ! \nEt pour approfondir le sujet après le sommet\, retrouvez notre offre de formations en ligne. \nVous connaissez d’autres amoureux des plantes ? Les plantes font partie de la grande trame du vivant. C’est ensemble que nous pouvons la faire évoluer ! Alors partagez ce lien\, invitez vos amis\, invitez ceux qui aiment les plantes à nous rejoindre lors de cet événement. Plus on est nombreux à explorer notre relation aux plantes\, plus le changement sera concret\, visible. \nLaissez-vous guider sur la voie des plantes. \nPendant ces 5 jours de sommet sur l’amour des plantes\, vous allez par exemple : \n– Envisager comment créer une relation différente avec les plantes \n– Tester des pratiques pour vous relier autrement aux plantes qui vous entourent \n– Découvrir vos plantes alliées\, les Baobabs\, les Cacaoyers\, les algues \n– Réenchanter votre rapport aux plantes et vous émerveiller de leurs bienfaits \n– Découvrir ce que la science nous dit du rapport au monde végétal \n– Découvrir les bénéfices pour la santé de vivre en réciprocité avec la Terre \nPrêt pour transformer votre relation avec les plantes\, dans la joie\, la connaissance et le cœur ? J’ai vraiment hâte de vous y retrouver ! \nEt voici le programme complet : \nJour 1 – Mardi 20 mai 2025 – vidéos accessibles du 20 au 22 mai \nPascal Poot – Amanda Jullion – Kevin Lomberget – Maud Gnidzaz – Direct intro : Nathalie Frossard \nJour 2 – Mercredi 21 mai 2025 – accès du 21 au 23 mai \nClaire Jozan-Meizel – Vincent Doumeizel – Anaïs Tachdjian – Yoan Dejoie – Murielle Lefebvre \nJour 3 – Jeudi 22 mai 2025 – accès du 22 au 24 mai \nFrederika Van Ingen – Cyrille Cornu – Alexis Peaucelle – Eva Bonandrini – Seloua Luste Boulbina \nJour 4 – Vendredi 23 mai 2025 – accès du 23 au 25 mai \nLaurent Huguelit – Stella et Martin Anderle – Caroline Gayet – Maxime de Rostolan – Claire Laurant \nJour 5 – Samedi 24 mai 2024 – accès du 24 au 26 mai (jusqu’au soir) \nToni et Aurélie Céron – Jean Thoby – Isabelle Rossi – Eric de Ruest – Nathalie Mondot
URL:https://www.gaiarome.com/evenement/amour-des-plantes-sommet-2025/
LOCATION:Webinaire en ligne\, France
CATEGORIES:Webinaires
ATTACH;FMTTYPE=image/jpeg:https://www.gaiarome.com/wp-content/uploads/2025/05/67c96ccc81c97_Visuel_publi_Insta_1080x1080_0002.jpg
END:VEVENT
END:VCALENDAR