BEGIN:VCALENDAR
VERSION:2.0
PRODID:-//Gaiarome - ECPv6.15.20//NONSGML v1.0//EN
CALSCALE:GREGORIAN
METHOD:PUBLISH
X-WR-CALNAME:Gaiarome
X-ORIGINAL-URL:https://www.gaiarome.com
X-WR-CALDESC:Évènements pour Gaiarome
REFRESH-INTERVAL;VALUE=DURATION:PT1H
X-Robots-Tag:noindex
X-PUBLISHED-TTL:PT1H
BEGIN:VTIMEZONE
TZID:Europe/Brussels
BEGIN:DAYLIGHT
TZOFFSETFROM:+0100
TZOFFSETTO:+0200
TZNAME:CEST
DTSTART:20240331T010000
END:DAYLIGHT
BEGIN:STANDARD
TZOFFSETFROM:+0200
TZOFFSETTO:+0100
TZNAME:CET
DTSTART:20241027T010000
END:STANDARD
BEGIN:DAYLIGHT
TZOFFSETFROM:+0100
TZOFFSETTO:+0200
TZNAME:CEST
DTSTART:20250330T010000
END:DAYLIGHT
BEGIN:STANDARD
TZOFFSETFROM:+0200
TZOFFSETTO:+0100
TZNAME:CET
DTSTART:20251026T010000
END:STANDARD
BEGIN:DAYLIGHT
TZOFFSETFROM:+0100
TZOFFSETTO:+0200
TZNAME:CEST
DTSTART:20260329T010000
END:DAYLIGHT
BEGIN:STANDARD
TZOFFSETFROM:+0200
TZOFFSETTO:+0100
TZNAME:CET
DTSTART:20261025T010000
END:STANDARD
END:VTIMEZONE
BEGIN:VEVENT
DTSTART;TZID=Europe/Brussels:20250722T080000
DTEND;TZID=Europe/Brussels:20250722T170000
DTSTAMP:20260423T215048
CREATED:20250722T093844Z
LAST-MODIFIED:20250722T100345Z
UID:30106-1753171200-1753203600@www.gaiarome.com
SUMMARY:Journée Ressourcement | garden party Wellness 2025
DESCRIPTION:Cette journée ressourcement est à l’initiative de\nCatherine Razniak\, conseillère en naturopathie holistique (Anderlues).\n” J’aide les personnes à retrouver harmonie et équilibre dans leur vie tant au niveau physique (décodage biologique – le mal à dit)\, émotionnel (peurs\, estime de soi\, stress\, fatigue\,…)\, alimentaire (hygiène de vie) et environnemental (relations aux autres\, lieu de vie). Grâce au bilan de santé global\, les causes du mal-être sont mises en évidence et solutionnées avec la mise en place de routines personnalisées.Je propose des séances individuelles ainsi que des accompagnements\, des formations sur les huiles essentielles psycho-émotionnelles\, les Fleurs de Bach\, les émotions\, des ateliers découvertes en naturopathie”Atelier proposé : bilan émotionnel (gratuit)https://www.facebook.com/Cathetsens/\n\nLe programme de cette journée ressourcement :10h-13h → Balade contée +/- 5 km au départ du bois de Warimez (côté rue Culot du Bois) à Anderlues (ne convient pas aux poussettes et aux personnes à mobilité réduite).13h-14h → Pique-nique (préparé par vos soins)\, les boissons sont offertes14h-18h → Découvrez les activités proposées par différents acteurs du bien-être de notre région.Vous assisterez à une mini séance de Qi Qong et yoga du rire au bord de l’eau\, découvrirez la thérapie avec les chevaux\, les bienfaits des huiles essentielles\, des Fleurs de Bach\, des pierres de soins\, des massages et des surprises !\n\nCe que nous proposons ce jour : – Eric De Ruest – Aromathérapie sacréeEric a créé\, durant 10 années de pratiques et de consultations\, de nombreuses synergies d’huiles essentielles. Il a rassemblé dans un coffret les 24 les plus demandées et a appelé ce coffret Les Holistiques. Le coffret est accompagné d’un oracle pour une mise en présence intuitive des thématiques abordées. Inspiré par les travaux de Joseph Campbell et de Carl Jung\, cet outil complet propose d’explorer nos archétypes stables ou chaotiques qui entrent en jeu dans notre voyage de transformation.\nAtelier proposé : Découvrez le message des cartes et repartez avec un petit rituel et un stick inhalateur contenant le fruit de votre tirage.\n\nAdresse du jour : 6 rue Culot du Bois\, 6150 Anderlues.\nRenseignements et inscription : ateliers.cathetsens@gmail.com ou 0494/39.85.86\nPlus d’infos sur facebook
URL:https://www.gaiarome.com/evenement/journee-ressourcement-garden-party/
LOCATION:6 rue Culot du Bois\, 6150 Anderlues.\, 6 rue Culot du Bois\, Anderlues.\, 6150\, Belgium
CATEGORIES:Salons et foires
ATTACH;FMTTYPE=image/jpeg:https://www.gaiarome.com/wp-content/uploads/2025/07/514644400_728045879875368_337500473633457466_n.jpg
END:VEVENT
END:VCALENDAR