BEGIN:VCALENDAR
VERSION:2.0
PRODID:-//Gaiarome - ECPv6.15.20//NONSGML v1.0//EN
CALSCALE:GREGORIAN
METHOD:PUBLISH
X-WR-CALNAME:Gaiarome
X-ORIGINAL-URL:https://www.gaiarome.com
X-WR-CALDESC:Évènements pour Gaiarome
REFRESH-INTERVAL;VALUE=DURATION:PT1H
X-Robots-Tag:noindex
X-PUBLISHED-TTL:PT1H
BEGIN:VTIMEZONE
TZID:Europe/Brussels
BEGIN:DAYLIGHT
TZOFFSETFROM:+0100
TZOFFSETTO:+0200
TZNAME:CEST
DTSTART:20240331T010000
END:DAYLIGHT
BEGIN:STANDARD
TZOFFSETFROM:+0200
TZOFFSETTO:+0100
TZNAME:CET
DTSTART:20241027T010000
END:STANDARD
BEGIN:DAYLIGHT
TZOFFSETFROM:+0100
TZOFFSETTO:+0200
TZNAME:CEST
DTSTART:20250330T010000
END:DAYLIGHT
BEGIN:STANDARD
TZOFFSETFROM:+0200
TZOFFSETTO:+0100
TZNAME:CET
DTSTART:20251026T010000
END:STANDARD
BEGIN:DAYLIGHT
TZOFFSETFROM:+0100
TZOFFSETTO:+0200
TZNAME:CEST
DTSTART:20260329T010000
END:DAYLIGHT
BEGIN:STANDARD
TZOFFSETFROM:+0200
TZOFFSETTO:+0100
TZNAME:CET
DTSTART:20261025T010000
END:STANDARD
END:VTIMEZONE
BEGIN:VEVENT
DTSTART;TZID=Europe/Brussels:20250906T100000
DTEND;TZID=Europe/Brussels:20250907T180000
DTSTAMP:20260424T073024
CREATED:20250826T070025Z
LAST-MODIFIED:20250826T070025Z
UID:30331-1757152800-1757268000@www.gaiarome.com
SUMMARY:MéDi'ZeN
DESCRIPTION:Retrouvez le stand de Patrice Coelsch\, réflexologue lors de la 12ème édition du salon Bien-être & Médiumnité à Molsheim. Venez à la rencontre des exposants\, l’entrée est gratuite !!
URL:https://www.gaiarome.com/evenement/medizen/
LOCATION:HOTEL DE LA MONNAIE\, Place de la liberté\, MOLSHEIM\, 67120\, France
ATTACH;FMTTYPE=image/jpeg:https://www.gaiarome.com/wp-content/uploads/2025/08/IMG_9991.jpg
END:VEVENT
BEGIN:VEVENT
DTSTART;VALUE=DATE:20250907
DTEND;VALUE=DATE:20250908
DTSTAMP:20260424T073024
CREATED:20250826T065016Z
LAST-MODIFIED:20250826T065016Z
UID:30325-1757203200-1757289599@www.gaiarome.com
SUMMARY:SALON BIEN-ETRE MINERAUX ET ARTISANAT
DESCRIPTION:La 5ème édition de ce salon qui se déroule à Wettolsheim\, village dans la région historique et culturelle d’Alsace du Sud. Un tour dans cette région en vaut la peine: Wettolsheim est la plus grande commune viticole du Haut-Rhin. \nRetrouvez le stand Gaïarome (Lisa) le dimanche 7 septembre.
URL:https://www.gaiarome.com/evenement/salon-bien-etre-mineraux-et-artisanat/
LOCATION:LA VIGNERAIE\, WETTOLSHEIM\, 68920
CATEGORIES:Salons et foires
ATTACH;FMTTYPE=image/jpeg:https://www.gaiarome.com/wp-content/uploads/2025/08/BAM-WETTOLSHEIM-0607-09_25.jpg
END:VEVENT
END:VCALENDAR