BEGIN:VCALENDAR
VERSION:2.0
PRODID:-//Gaiarome - ECPv6.15.20//NONSGML v1.0//EN
CALSCALE:GREGORIAN
METHOD:PUBLISH
X-WR-CALNAME:Gaiarome
X-ORIGINAL-URL:https://www.gaiarome.com
X-WR-CALDESC:Évènements pour Gaiarome
REFRESH-INTERVAL;VALUE=DURATION:PT1H
X-Robots-Tag:noindex
X-PUBLISHED-TTL:PT1H
BEGIN:VTIMEZONE
TZID:Europe/Brussels
BEGIN:DAYLIGHT
TZOFFSETFROM:+0100
TZOFFSETTO:+0200
TZNAME:CEST
DTSTART:20240331T010000
END:DAYLIGHT
BEGIN:STANDARD
TZOFFSETFROM:+0200
TZOFFSETTO:+0100
TZNAME:CET
DTSTART:20241027T010000
END:STANDARD
BEGIN:DAYLIGHT
TZOFFSETFROM:+0100
TZOFFSETTO:+0200
TZNAME:CEST
DTSTART:20250330T010000
END:DAYLIGHT
BEGIN:STANDARD
TZOFFSETFROM:+0200
TZOFFSETTO:+0100
TZNAME:CET
DTSTART:20251026T010000
END:STANDARD
BEGIN:DAYLIGHT
TZOFFSETFROM:+0100
TZOFFSETTO:+0200
TZNAME:CEST
DTSTART:20260329T010000
END:DAYLIGHT
BEGIN:STANDARD
TZOFFSETFROM:+0200
TZOFFSETTO:+0100
TZNAME:CET
DTSTART:20261025T010000
END:STANDARD
END:VTIMEZONE
BEGIN:VEVENT
DTSTART;TZID=Europe/Brussels:20251004T100000
DTEND;TZID=Europe/Brussels:20251005T180000
DTSTAMP:20260424T091709
CREATED:20250930T071618Z
LAST-MODIFIED:20250930T071618Z
UID:30442-1759572000-1759687200@www.gaiarome.com
SUMMARY:SALON BIEN-ETRE ET MINERAUX SELESTAT
DESCRIPTION:Le 7è Salon Bien-Etre et Minéraux se déroule sur un weekend à Selestat. Un événement tant attendu par de nombreux visiteurs\, bijoux\, minéraux\, espace bien-être\, foodtruck\, tout est optimal pour 2 jours bien remplis. \nSur ce salon venez rencontrer Patrice\, avec la gamme Gaïarome. Un moment d’échange\, de découverte ou de redécouverte. \n 
URL:https://www.gaiarome.com/evenement/salon-bien-etre-et-mineraux-selestat/
LOCATION:Les Tanzmatten à SELESTAT\, SELESTAT\, France
ATTACH;FMTTYPE=image/jpeg:https://www.gaiarome.com/wp-content/uploads/2025/09/SEM-Selestat-FB.jpg
END:VEVENT
END:VCALENDAR