BEGIN:VCALENDAR
VERSION:2.0
PRODID:-//Gaiarome - ECPv6.15.20//NONSGML v1.0//EN
CALSCALE:GREGORIAN
METHOD:PUBLISH
X-ORIGINAL-URL:https://www.gaiarome.com
X-WR-CALDESC:Évènements pour Gaiarome
REFRESH-INTERVAL;VALUE=DURATION:PT1H
X-Robots-Tag:noindex
X-PUBLISHED-TTL:PT1H
BEGIN:VTIMEZONE
TZID:Europe/Brussels
BEGIN:DAYLIGHT
TZOFFSETFROM:+0100
TZOFFSETTO:+0200
TZNAME:CEST
DTSTART:20240331T010000
END:DAYLIGHT
BEGIN:STANDARD
TZOFFSETFROM:+0200
TZOFFSETTO:+0100
TZNAME:CET
DTSTART:20241027T010000
END:STANDARD
BEGIN:DAYLIGHT
TZOFFSETFROM:+0100
TZOFFSETTO:+0200
TZNAME:CEST
DTSTART:20250330T010000
END:DAYLIGHT
BEGIN:STANDARD
TZOFFSETFROM:+0200
TZOFFSETTO:+0100
TZNAME:CET
DTSTART:20251026T010000
END:STANDARD
BEGIN:DAYLIGHT
TZOFFSETFROM:+0100
TZOFFSETTO:+0200
TZNAME:CEST
DTSTART:20260329T010000
END:DAYLIGHT
BEGIN:STANDARD
TZOFFSETFROM:+0200
TZOFFSETTO:+0100
TZNAME:CET
DTSTART:20261025T010000
END:STANDARD
END:VTIMEZONE
BEGIN:VEVENT
DTSTART;TZID=Europe/Brussels:20251018T100000
DTEND;TZID=Europe/Brussels:20251019T180000
DTSTAMP:20260424T093120
CREATED:20251007T140700Z
LAST-MODIFIED:20251016T090548Z
UID:30529-1760781600-1760896800@www.gaiarome.com
SUMMARY:SALON DU BIEN-ÊTRE & DE LA VITALITÉ
DESCRIPTION:✨ Venez nous retrouver au Salon du Bien-Être & de la Vitalité de Truchtersheim les 18 & 19 octobre 2025 au Terminus\n🌿 Plus de 80 exposants passionnés – restauration sur place\n🎤 24 conférences & ateliers inspirants 🎁 Grande tombola avec de superbes lots \nAu stand Gaïarome vous trouverez Linda\, qui se fera un grand plaisir de vous informer sur la litho-thérapie combinée aux huiles essentielles\, ainsi que Lisa pour les huiles essentielles dans le cadre de l’hypnose thérapeutique. \n3€ l’entrée\, entrée libre le samedi et dimanche matin de 10h à 11h et le samedi de 18h à 19h
URL:https://www.gaiarome.com/evenement/salon-du-bien-etre-truchtesheim/
LOCATION:Espace Terminus\, 20A Rue de la Gare\, TRUCHTERSHEIM\, 67120
CATEGORIES:Salons et foires
ATTACH;FMTTYPE=image/webp:https://www.gaiarome.com/wp-content/uploads/2025/10/0-55142800-1758016020-720575-920-0-F.webp
END:VEVENT
END:VCALENDAR