BEGIN:VCALENDAR
VERSION:2.0
PRODID:-//Gaiarome - ECPv6.15.20//NONSGML v1.0//EN
CALSCALE:GREGORIAN
METHOD:PUBLISH
X-WR-CALNAME:Gaiarome
X-ORIGINAL-URL:https://www.gaiarome.com
X-WR-CALDESC:Évènements pour Gaiarome
REFRESH-INTERVAL;VALUE=DURATION:PT1H
X-Robots-Tag:noindex
X-PUBLISHED-TTL:PT1H
BEGIN:VTIMEZONE
TZID:Europe/Brussels
BEGIN:DAYLIGHT
TZOFFSETFROM:+0100
TZOFFSETTO:+0200
TZNAME:CEST
DTSTART:20240331T010000
END:DAYLIGHT
BEGIN:STANDARD
TZOFFSETFROM:+0200
TZOFFSETTO:+0100
TZNAME:CET
DTSTART:20241027T010000
END:STANDARD
BEGIN:DAYLIGHT
TZOFFSETFROM:+0100
TZOFFSETTO:+0200
TZNAME:CEST
DTSTART:20250330T010000
END:DAYLIGHT
BEGIN:STANDARD
TZOFFSETFROM:+0200
TZOFFSETTO:+0100
TZNAME:CET
DTSTART:20251026T010000
END:STANDARD
BEGIN:DAYLIGHT
TZOFFSETFROM:+0100
TZOFFSETTO:+0200
TZNAME:CEST
DTSTART:20260329T010000
END:DAYLIGHT
BEGIN:STANDARD
TZOFFSETFROM:+0200
TZOFFSETTO:+0100
TZNAME:CET
DTSTART:20261025T010000
END:STANDARD
END:VTIMEZONE
BEGIN:VEVENT
DTSTART;TZID=Europe/Brussels:20251025T100000
DTEND;TZID=Europe/Brussels:20251026T180000
DTSTAMP:20260424T075029
CREATED:20251007T135213Z
LAST-MODIFIED:20251023T151146Z
UID:30526-1761386400-1761501600@www.gaiarome.com
SUMMARY:SALON ZEN BOERSCH
DESCRIPTION:Salon zen de Boersch 2025\nVoici un agenda bien rempli pour ce salon zen\, organisé par l’association La Ferme des Coeurs Conscients (un espace physique où les gens se rencontrent\, travaillent et collaborent en dehors de leur domicile ou de leur lieu de travail habituel).  \nVenez découvrir les nombreux thérapeutes qui se font un plaisir de faire découvrir leurs activités. \nVous trouverez les produits Gaïarome chez Patrice\, Laetitia et Lisa. Faites vos tirages de cartes\, respirez les synergies et profitez d’un voyage olfactif.
URL:https://www.gaiarome.com/evenement/salon-zen-boersch/
LOCATION:Salle des Fetes\, 10 Rue du Moulin\, BOERSCH\, 67530
CATEGORIES:Salons et foires
ATTACH;FMTTYPE=image/webp:https://www.gaiarome.com/wp-content/uploads/2025/10/IMG_0487.jpg.webp
END:VEVENT
END:VCALENDAR