BEGIN:VCALENDAR
VERSION:2.0
PRODID:-//Gaiarome - ECPv6.15.20//NONSGML v1.0//EN
CALSCALE:GREGORIAN
METHOD:PUBLISH
X-ORIGINAL-URL:https://www.gaiarome.com
X-WR-CALDESC:Évènements pour Gaiarome
REFRESH-INTERVAL;VALUE=DURATION:PT1H
X-Robots-Tag:noindex
X-PUBLISHED-TTL:PT1H
BEGIN:VTIMEZONE
TZID:Europe/Brussels
BEGIN:DAYLIGHT
TZOFFSETFROM:+0100
TZOFFSETTO:+0200
TZNAME:CEST
DTSTART:20240331T010000
END:DAYLIGHT
BEGIN:STANDARD
TZOFFSETFROM:+0200
TZOFFSETTO:+0100
TZNAME:CET
DTSTART:20241027T010000
END:STANDARD
BEGIN:DAYLIGHT
TZOFFSETFROM:+0100
TZOFFSETTO:+0200
TZNAME:CEST
DTSTART:20250330T010000
END:DAYLIGHT
BEGIN:STANDARD
TZOFFSETFROM:+0200
TZOFFSETTO:+0100
TZNAME:CET
DTSTART:20251026T010000
END:STANDARD
BEGIN:DAYLIGHT
TZOFFSETFROM:+0100
TZOFFSETTO:+0200
TZNAME:CEST
DTSTART:20260329T010000
END:DAYLIGHT
BEGIN:STANDARD
TZOFFSETFROM:+0200
TZOFFSETTO:+0100
TZNAME:CET
DTSTART:20261025T010000
END:STANDARD
END:VTIMEZONE
BEGIN:VEVENT
DTSTART;VALUE=DATE:20251129
DTEND;VALUE=DATE:20251130
DTSTAMP:20260424T111200
CREATED:20250826T064353Z
LAST-MODIFIED:20250826T064353Z
UID:30321-1764374400-1764460799@www.gaiarome.com
SUMMARY:MOTO TRIKE DU LION
DESCRIPTION:Le Moto Trike du lion organise son deuxième marché de Noël avec des exposants intérieurs et extérieurs; animations\, buvettes\, grillades. L’événement promet d’être singulier!! \nRetrouvez le stand de Gaïarome de 10h à 20h
URL:https://www.gaiarome.com/evenement/moto-trike-du-lion/
LOCATION:Salle des Fetes\, 10 Rue du Moulin\, BOERSCH\, 67530
CATEGORIES:Salons et foires
ATTACH;FMTTYPE=image/jpeg:https://www.gaiarome.com/wp-content/uploads/2025/08/IMG_9984.jpg
END:VEVENT
END:VCALENDAR