BEGIN:VCALENDAR
VERSION:2.0
PRODID:-//Gaiarome - ECPv6.15.20//NONSGML v1.0//EN
CALSCALE:GREGORIAN
METHOD:PUBLISH
X-WR-CALNAME:Gaiarome
X-ORIGINAL-URL:https://www.gaiarome.com
X-WR-CALDESC:Évènements pour Gaiarome
REFRESH-INTERVAL;VALUE=DURATION:PT1H
X-Robots-Tag:noindex
X-PUBLISHED-TTL:PT1H
BEGIN:VTIMEZONE
TZID:Europe/Brussels
BEGIN:DAYLIGHT
TZOFFSETFROM:+0100
TZOFFSETTO:+0200
TZNAME:CEST
DTSTART:20250330T010000
END:DAYLIGHT
BEGIN:STANDARD
TZOFFSETFROM:+0200
TZOFFSETTO:+0100
TZNAME:CET
DTSTART:20251026T010000
END:STANDARD
BEGIN:DAYLIGHT
TZOFFSETFROM:+0100
TZOFFSETTO:+0200
TZNAME:CEST
DTSTART:20260329T010000
END:DAYLIGHT
BEGIN:STANDARD
TZOFFSETFROM:+0200
TZOFFSETTO:+0100
TZNAME:CET
DTSTART:20261025T010000
END:STANDARD
BEGIN:DAYLIGHT
TZOFFSETFROM:+0100
TZOFFSETTO:+0200
TZNAME:CEST
DTSTART:20270328T010000
END:DAYLIGHT
BEGIN:STANDARD
TZOFFSETFROM:+0200
TZOFFSETTO:+0100
TZNAME:CET
DTSTART:20271031T010000
END:STANDARD
END:VTIMEZONE
BEGIN:VEVENT
DTSTART;TZID=Europe/Brussels:20260425T090000
DTEND;TZID=Europe/Brussels:20260426T170000
DTSTAMP:20260425T143939
CREATED:20250822T085534Z
LAST-MODIFIED:20260410T103702Z
UID:30286-1777107600-1777222800@www.gaiarome.com
SUMMARY:[reporté] L’olfaction des huiles essentielles sacrées - Week-end de formation
DESCRIPTION:Formation dédiée à l’olfaction des huiles sacrées\, ces essences végétales qui accompagnent les grandes étapes de transformation de l’être\nLa connaissance des bienfaits des huiles essentielles ne cesse d’évoluer. Chez Gaiarome\, nous avons choisi d’explorer plus particulièrement le champ des huiles essentielles dites sacrées\, afin de tisser un pont entre traditions ancestrales et recherches contemporaines. \nAu cours de ce week-end de formation\, nous vous proposons d’expérimenter et de comprendre la place singulière de ces huiles\, utilisées depuis des siècles dans des pratiques de soin et de reliance au Spirituel. Ces essences végétales\, présentes dans de nombreuses mythologies\, accompagnent les grandes étapes de transformation de l’être et s’inscrivent dans le processus initiatique du Voyage du Héros. \nNous vous invitons ainsi à vivre une expérience olfactive et intérieure\, à la croisée du savoir et de l’intuition\, pour enrichir votre pratique thérapeutique et nourrir votre propre cheminement. \nProgramme du week-end : L’olfaction des huiles sacrées\nSamedi – Fondations et initiation \nLa journée s’ouvrira sur une présentation des bases essentielles : familles d’huiles\, principes de qualité et introduction aux dimensions psycho-émotionnelles de l’olfaction. \nL’après-midi sera consacré aux huiles sacrées : leur rôle dans les traditions de soin\, leur influence sur les états de conscience et leur capacité à accompagner le chemin intérieur. \nDes exercices pratiques d’olfaction et de voyages guidés permettront d’expérimenter directement leur portée. \nDimanche – Approfondissement et pratiques intégratives \nLa matinée sera dédiée à la découverte des 24 synergies Holistiques\, chacune intégrant au moins une huile sacrée\, et conçues pour accompagner les processus de transformation. Focus sur les archétypes mis en jeu dans le Voyage du Héros et rôle des huiles essentielles correspondantes. \nL’après-midi sera dédiée à des mises en pratique concrètes pour renforcer l’aisance et la confiance dans l’utilisation des huiles sacrées et des synergies\, tant dans l’accompagnement thérapeutique que dans le développement personnel. \nLa formation se clôturera par un temps d’intégration\, un partage d’expériences et la remise du certificat de participation. \nLieu : Hotel Siatel – 6 rue Louis Aragon – 25000 Besancon  \nPrix : 250 € (acompte de 125€ à verser pour valider votre réservation – compte BE16 7320 7270 3874 – Mention Besançon. Non remboursable après le 1er MARS). \nLe prix ne comprend ni les repas ni le logement. \n——————Contactez l’hôtel pour votre logement sur place : www.hotelsiatel.com Téléphone : +33 3 81 41 12 22 E-mail : siatelchateaufarine@hotelsiatel.com
URL:https://www.gaiarome.com/evenement/olfaction-des-huiles-sacrees-besancon/
LOCATION:Hotel Siatel – Besançon\, 6 rue Louis Aragon\, Besançon\, 25000\, France
CATEGORIES:Formations
ATTACH;FMTTYPE=image/webp:https://www.gaiarome.com/wp-content/uploads/2025/08/Besancon-2026-02-gimp-bddm.webp
END:VEVENT
END:VCALENDAR