BEGIN:VCALENDAR
VERSION:2.0
PRODID:-//Gaiarome - ECPv6.15.20//NONSGML v1.0//EN
CALSCALE:GREGORIAN
METHOD:PUBLISH
X-WR-CALNAME:Gaiarome
X-ORIGINAL-URL:https://www.gaiarome.com
X-WR-CALDESC:Évènements pour Gaiarome
REFRESH-INTERVAL;VALUE=DURATION:PT1H
X-Robots-Tag:noindex
X-PUBLISHED-TTL:PT1H
BEGIN:VTIMEZONE
TZID:Europe/Brussels
BEGIN:DAYLIGHT
TZOFFSETFROM:+0100
TZOFFSETTO:+0200
TZNAME:CEST
DTSTART:20240331T010000
END:DAYLIGHT
BEGIN:STANDARD
TZOFFSETFROM:+0200
TZOFFSETTO:+0100
TZNAME:CET
DTSTART:20241027T010000
END:STANDARD
BEGIN:DAYLIGHT
TZOFFSETFROM:+0100
TZOFFSETTO:+0200
TZNAME:CEST
DTSTART:20250330T010000
END:DAYLIGHT
BEGIN:STANDARD
TZOFFSETFROM:+0200
TZOFFSETTO:+0100
TZNAME:CET
DTSTART:20251026T010000
END:STANDARD
BEGIN:DAYLIGHT
TZOFFSETFROM:+0100
TZOFFSETTO:+0200
TZNAME:CEST
DTSTART:20260329T010000
END:DAYLIGHT
BEGIN:STANDARD
TZOFFSETFROM:+0200
TZOFFSETTO:+0100
TZNAME:CET
DTSTART:20261025T010000
END:STANDARD
END:VTIMEZONE
BEGIN:VEVENT
DTSTART;TZID=Europe/Brussels:20251101T080000
DTEND;TZID=Europe/Brussels:20251102T180000
DTSTAMP:20260424T092921
CREATED:20251007T134213Z
LAST-MODIFIED:20251007T134213Z
UID:30521-1761984000-1762106400@www.gaiarome.com
SUMMARY:SALON BIEN-ETRE ET MINERAUX
DESCRIPTION:C’est la 7è édition pour ce salon bien-être et minéraux sur Marlenheim. Tous les ans\, c’est un événement incontournable. \nVenez découvrir des créations artistiques\, des minéraux\, pierres précieuses\, ainsi que conférences gratuites et vos thérapeutes favoris. \nSur le stand de Gaïarome\, retrouvez Patricia et Lisa\, pour vos tirages cartes et explications sur l’olfactothérapie.
URL:https://www.gaiarome.com/evenement/salon-bien-etre-et-mineraux/
LOCATION:Salle des Roseaux à Marlenheim\, MARLENHEIM\, 67520
CATEGORIES:Salons et foires
ATTACH;FMTTYPE=image/jpeg:https://www.gaiarome.com/wp-content/uploads/2025/10/BAM-MARLENHEIM-0102-11_25.jpg
END:VEVENT
BEGIN:VEVENT
DTSTART;TZID=Europe/Brussels:20251105T090000
DTEND;TZID=Europe/Brussels:20251105T113000
DTSTAMP:20260424T092921
CREATED:20251016T065154Z
LAST-MODIFIED:20251016T090230Z
UID:30661-1762333200-1762342200@www.gaiarome.com
SUMMARY:LA MAGIE DES PARFUMS NATURELS - Formation courte
DESCRIPTION:Venez composer vos parfums naturels\, avec le meilleur des huiles essentielles.\nEn une matinée de formation\, vous apprendrez les bases nécessaires pour composer vos sprays maison. La pyramide des odeurs\, les bons dosages\, les bons accords. Vous serez alors capables de créer pour vous et vos proches des compositions uniques avec le meilleur des huiles essentielles.\n\nDes parfums naturels ? Ça sent le cadeau fait maison qui va en épater plus d’un pour les fêtes.\n\n\nEnsemble\, nous définirons les huiles essentielles qui vous conviennent et nous apprendrons à les assembler pour créer VOTRE PARFUM. Un parfum qui vous accompagne et vous soutient… \n\n\n\n\n\n\n\nParfum de corps\, parfum d’ambiance et parfums subtils pour harmoniser les énergies et purifier les lieux.\nNous ferons une place aux huiles sacrées\, selon vos envies et demandes.\n\n\n\n\n\n\n\n\nAtelier proposé par Eric De Ruest (fondateur de Gaiarome).\n\nLieu : Centrez-Vous\, rue de la scierie 26 à Hotton (Entre Durbuy et Marche-en-Famenne)\nPAF : 35 euros (et vous repartez avec votre parfum)\n : 12 places seulement…\nPour réserver et vous assurer une place\, versez votre participation sur le compte : BE43 7320 6914 6301
URL:https://www.gaiarome.com/evenement/la-magie-des-parfums-naturels/
LOCATION:Centrez-Vous\, 7 rue du Thier\, Hotton\, 6990\, Belgium
CATEGORIES:Formations
ATTACH;FMTTYPE=image/webp:https://www.gaiarome.com/wp-content/uploads/2025/10/chose-4.webp
END:VEVENT
BEGIN:VEVENT
DTSTART;VALUE=DATE:20251129
DTEND;VALUE=DATE:20251130
DTSTAMP:20260424T092921
CREATED:20250826T064353Z
LAST-MODIFIED:20250826T064353Z
UID:30321-1764374400-1764460799@www.gaiarome.com
SUMMARY:MOTO TRIKE DU LION
DESCRIPTION:Le Moto Trike du lion organise son deuxième marché de Noël avec des exposants intérieurs et extérieurs; animations\, buvettes\, grillades. L’événement promet d’être singulier!! \nRetrouvez le stand de Gaïarome de 10h à 20h
URL:https://www.gaiarome.com/evenement/moto-trike-du-lion/
LOCATION:Salle des Fetes\, 10 Rue du Moulin\, BOERSCH\, 67530
CATEGORIES:Salons et foires
ATTACH;FMTTYPE=image/jpeg:https://www.gaiarome.com/wp-content/uploads/2025/08/IMG_9984.jpg
END:VEVENT
END:VCALENDAR