BEGIN:VCALENDAR
VERSION:2.0
PRODID:-//Gaiarome - ECPv6.15.20//NONSGML v1.0//EN
CALSCALE:GREGORIAN
METHOD:PUBLISH
X-ORIGINAL-URL:https://www.gaiarome.com
X-WR-CALDESC:Évènements pour Gaiarome
REFRESH-INTERVAL;VALUE=DURATION:PT1H
X-Robots-Tag:noindex
X-PUBLISHED-TTL:PT1H
BEGIN:VTIMEZONE
TZID:Europe/Brussels
BEGIN:DAYLIGHT
TZOFFSETFROM:+0100
TZOFFSETTO:+0200
TZNAME:CEST
DTSTART:20240331T010000
END:DAYLIGHT
BEGIN:STANDARD
TZOFFSETFROM:+0200
TZOFFSETTO:+0100
TZNAME:CET
DTSTART:20241027T010000
END:STANDARD
BEGIN:DAYLIGHT
TZOFFSETFROM:+0100
TZOFFSETTO:+0200
TZNAME:CEST
DTSTART:20250330T010000
END:DAYLIGHT
BEGIN:STANDARD
TZOFFSETFROM:+0200
TZOFFSETTO:+0100
TZNAME:CET
DTSTART:20251026T010000
END:STANDARD
BEGIN:DAYLIGHT
TZOFFSETFROM:+0100
TZOFFSETTO:+0200
TZNAME:CEST
DTSTART:20260329T010000
END:DAYLIGHT
BEGIN:STANDARD
TZOFFSETFROM:+0200
TZOFFSETTO:+0100
TZNAME:CET
DTSTART:20261025T010000
END:STANDARD
END:VTIMEZONE
BEGIN:VEVENT
DTSTART;TZID=Europe/Brussels:20251203T090000
DTEND;TZID=Europe/Brussels:20251203T113000
DTSTAMP:20260424T111425
CREATED:20251106T123938Z
LAST-MODIFIED:20251106T124525Z
UID:30847-1764752400-1764761400@www.gaiarome.com
SUMMARY:🎄 ATELIER CADEAUX AROMATIQUES – Spécial Noël
DESCRIPTION:Un atelier cadeaux DIY (fait-maison quoi ! ) à mettre sous le sapin sans financer #shein et autres monstruosités sans âmes ! \nSous le sapin cette année\, place aux cadeaux faits main et pleins de sens !Venez découvrir comment réaliser vous-même de jolis présents à base d’huiles essentielles et d’ingrédients naturels. \nEn une matinée conviviale\, vous apprendrez à fabriquer : des huiles de cuisine aromatisées\, des sels de bain parfumés\, et d’autres petites créations bien-être qui raviront famille et amis. \nVous apprendrez à doser\, assembler et personnaliser vos recettes selon vos goûts et vos envies.Un atelier créatif\, sensoriel et joyeux\, parfait pour préparer les fêtes dans une ambiance chaleureuse ! \n Atelier animé par Éric De Ruest (fondateur de Gaiarome). Lieu :  rue des Fontaines n° 2 – 6990 Ny (entre Durbuy et Marche-en-Famenne) PAF : 35 € (et vous repartez avec une création !) \n🎁 Pour réserver et garantir votre place\, versez votre participation sur le compte :BE43 7320 6914 6301
URL:https://www.gaiarome.com/evenement/atelier-cadeaux-aromatiques-noel-2025/
LOCATION:Chez Martine\, rue des Fontaines n° 2\, Ny\, 6990\, Belgium
CATEGORIES:Formations
ATTACH;FMTTYPE=image/webp:https://www.gaiarome.com/wp-content/uploads/2025/11/image-pour-event.webp
END:VEVENT
END:VCALENDAR